BEGIN:VCALENDAR
VERSION:2.0
PRODID:-//PMA - ECPv6.15.19//NONSGML v1.0//EN
CALSCALE:GREGORIAN
METHOD:PUBLISH
X-WR-CALNAME:PMA
X-ORIGINAL-URL:https://pmamusic.com
X-WR-CALDESC:Events for PMA
REFRESH-INTERVAL;VALUE=DURATION:PT1H
X-Robots-Tag:noindex
X-PUBLISHED-TTL:PT1H
BEGIN:VTIMEZONE
TZID:America/Los_Angeles
BEGIN:DAYLIGHT
TZOFFSETFROM:-0800
TZOFFSETTO:-0700
TZNAME:PDT
DTSTART:20220313T100000
END:DAYLIGHT
BEGIN:STANDARD
TZOFFSETFROM:-0700
TZOFFSETTO:-0800
TZNAME:PST
DTSTART:20221106T090000
END:STANDARD
BEGIN:DAYLIGHT
TZOFFSETFROM:-0800
TZOFFSETTO:-0700
TZNAME:PDT
DTSTART:20230312T100000
END:DAYLIGHT
BEGIN:STANDARD
TZOFFSETFROM:-0700
TZOFFSETTO:-0800
TZNAME:PST
DTSTART:20231105T090000
END:STANDARD
BEGIN:DAYLIGHT
TZOFFSETFROM:-0800
TZOFFSETTO:-0700
TZNAME:PDT
DTSTART:20240310T100000
END:DAYLIGHT
BEGIN:STANDARD
TZOFFSETFROM:-0700
TZOFFSETTO:-0800
TZNAME:PST
DTSTART:20241103T090000
END:STANDARD
END:VTIMEZONE
BEGIN:VEVENT
DTSTART;TZID=America/Los_Angeles:20230914T100000
DTEND;TZID=America/Los_Angeles:20230914T110000
DTSTAMP:20260420T074643
CREATED:20230111T181634Z
LAST-MODIFIED:20230809T184953Z
UID:1758-1694685600-1694689200@pmamusic.com
SUMMARY:VIRTUAL PMA Publisher Member Meeting
DESCRIPTION:These meetings are reserved for PMA Publisher Members ONLY. Publisher meetings are an extension of our PMA Board meetings\, where we have the opportunity to update publishers on efforts and industry initiatives.
URL:https://pmamusic.com/event/virtual-pma-publisher-member-meeting-3/
CATEGORIES:Publisher Meeting
ATTACH;FMTTYPE=image/png:https://pmamusic.com/wp-content/uploads/2023/01/General_PublishersMeeting.png
ORGANIZER;CN="Production Music Association":MAILTO:info@pmamusic.com
END:VEVENT
END:VCALENDAR